BEGIN:VCALENDAR
VERSION:2.0
PRODID:-//Beaming Hope Church - ECPv6.15.20//NONSGML v1.0//EN
CALSCALE:GREGORIAN
METHOD:PUBLISH
X-WR-CALNAME:Beaming Hope Church
X-ORIGINAL-URL:https://beaminghope.org
X-WR-CALDESC:Events for Beaming Hope Church
REFRESH-INTERVAL;VALUE=DURATION:PT1H
X-Robots-Tag:noindex
X-PUBLISHED-TTL:PT1H
BEGIN:VTIMEZONE
TZID:America/New_York
BEGIN:DAYLIGHT
TZOFFSETFROM:-0500
TZOFFSETTO:-0400
TZNAME:EDT
DTSTART:20250309T070000
END:DAYLIGHT
BEGIN:STANDARD
TZOFFSETFROM:-0400
TZOFFSETTO:-0500
TZNAME:EST
DTSTART:20251102T060000
END:STANDARD
BEGIN:DAYLIGHT
TZOFFSETFROM:-0500
TZOFFSETTO:-0400
TZNAME:EDT
DTSTART:20260308T070000
END:DAYLIGHT
BEGIN:STANDARD
TZOFFSETFROM:-0400
TZOFFSETTO:-0500
TZNAME:EST
DTSTART:20261101T060000
END:STANDARD
BEGIN:DAYLIGHT
TZOFFSETFROM:-0500
TZOFFSETTO:-0400
TZNAME:EDT
DTSTART:20270314T070000
END:DAYLIGHT
BEGIN:STANDARD
TZOFFSETFROM:-0400
TZOFFSETTO:-0500
TZNAME:EST
DTSTART:20271107T060000
END:STANDARD
END:VTIMEZONE
BEGIN:VEVENT
DTSTART;TZID=America/New_York:20260428T113000
DTEND;TZID=America/New_York:20260428T123000
DTSTAMP:20260421T204929
CREATED:20230121T044655Z
LAST-MODIFIED:20230131T013519Z
UID:10000174-1777375800-1777379400@beaminghope.org
SUMMARY:Free Groceries
DESCRIPTION:Free Groceries on Tuesdays from 11:30 am to 12:30 pm\, all welcome. No appointment and no pre-registration required. Just come with an ID and receive free groceries. You can come every week if you need to. \nWe are located in the building directly behind the building with columns in the front.
URL:https://beaminghope.org/events/free-groceries/2026-04-28/
LOCATION:Beaming Hope Church\, 11000 110th Ave N\, Largo\, FL\, 33778\, United States
ATTACH;FMTTYPE=image/jpeg:https://beaminghope.org/wp-content/uploads/2023/01/Groceries-e1675114470925.jpg
END:VEVENT
BEGIN:VEVENT
DTSTART;TZID=America/New_York:20260505T113000
DTEND;TZID=America/New_York:20260505T123000
DTSTAMP:20260421T204929
CREATED:20230121T044655Z
LAST-MODIFIED:20230131T013519Z
UID:10000175-1777980600-1777984200@beaminghope.org
SUMMARY:Free Groceries
DESCRIPTION:Free Groceries on Tuesdays from 11:30 am to 12:30 pm\, all welcome. No appointment and no pre-registration required. Just come with an ID and receive free groceries. You can come every week if you need to. \nWe are located in the building directly behind the building with columns in the front.
URL:https://beaminghope.org/events/free-groceries/2026-05-05/
LOCATION:Beaming Hope Church\, 11000 110th Ave N\, Largo\, FL\, 33778\, United States
ATTACH;FMTTYPE=image/jpeg:https://beaminghope.org/wp-content/uploads/2023/01/Groceries-e1675114470925.jpg
END:VEVENT
BEGIN:VEVENT
DTSTART;TZID=America/New_York:20260512T113000
DTEND;TZID=America/New_York:20260512T123000
DTSTAMP:20260421T204929
CREATED:20230121T044655Z
LAST-MODIFIED:20230131T013519Z
UID:10000176-1778585400-1778589000@beaminghope.org
SUMMARY:Free Groceries
DESCRIPTION:Free Groceries on Tuesdays from 11:30 am to 12:30 pm\, all welcome. No appointment and no pre-registration required. Just come with an ID and receive free groceries. You can come every week if you need to. \nWe are located in the building directly behind the building with columns in the front.
URL:https://beaminghope.org/events/free-groceries/2026-05-12/
LOCATION:Beaming Hope Church\, 11000 110th Ave N\, Largo\, FL\, 33778\, United States
ATTACH;FMTTYPE=image/jpeg:https://beaminghope.org/wp-content/uploads/2023/01/Groceries-e1675114470925.jpg
END:VEVENT
BEGIN:VEVENT
DTSTART;TZID=America/New_York:20260519T113000
DTEND;TZID=America/New_York:20260519T123000
DTSTAMP:20260421T204929
CREATED:20230121T044655Z
LAST-MODIFIED:20230131T013519Z
UID:10000177-1779190200-1779193800@beaminghope.org
SUMMARY:Free Groceries
DESCRIPTION:Free Groceries on Tuesdays from 11:30 am to 12:30 pm\, all welcome. No appointment and no pre-registration required. Just come with an ID and receive free groceries. You can come every week if you need to. \nWe are located in the building directly behind the building with columns in the front.
URL:https://beaminghope.org/events/free-groceries/2026-05-19/
LOCATION:Beaming Hope Church\, 11000 110th Ave N\, Largo\, FL\, 33778\, United States
ATTACH;FMTTYPE=image/jpeg:https://beaminghope.org/wp-content/uploads/2023/01/Groceries-e1675114470925.jpg
END:VEVENT
BEGIN:VEVENT
DTSTART;TZID=America/New_York:20260526T113000
DTEND;TZID=America/New_York:20260526T123000
DTSTAMP:20260421T204929
CREATED:20230121T044655Z
LAST-MODIFIED:20230131T013519Z
UID:10000178-1779795000-1779798600@beaminghope.org
SUMMARY:Free Groceries
DESCRIPTION:Free Groceries on Tuesdays from 11:30 am to 12:30 pm\, all welcome. No appointment and no pre-registration required. Just come with an ID and receive free groceries. You can come every week if you need to. \nWe are located in the building directly behind the building with columns in the front.
URL:https://beaminghope.org/events/free-groceries/2026-05-26/
LOCATION:Beaming Hope Church\, 11000 110th Ave N\, Largo\, FL\, 33778\, United States
ATTACH;FMTTYPE=image/jpeg:https://beaminghope.org/wp-content/uploads/2023/01/Groceries-e1675114470925.jpg
END:VEVENT
BEGIN:VEVENT
DTSTART;TZID=America/New_York:20260602T113000
DTEND;TZID=America/New_York:20260602T123000
DTSTAMP:20260421T204929
CREATED:20230121T044655Z
LAST-MODIFIED:20230131T013519Z
UID:10000179-1780399800-1780403400@beaminghope.org
SUMMARY:Free Groceries
DESCRIPTION:Free Groceries on Tuesdays from 11:30 am to 12:30 pm\, all welcome. No appointment and no pre-registration required. Just come with an ID and receive free groceries. You can come every week if you need to. \nWe are located in the building directly behind the building with columns in the front.
URL:https://beaminghope.org/events/free-groceries/2026-06-02/
LOCATION:Beaming Hope Church\, 11000 110th Ave N\, Largo\, FL\, 33778\, United States
ATTACH;FMTTYPE=image/jpeg:https://beaminghope.org/wp-content/uploads/2023/01/Groceries-e1675114470925.jpg
END:VEVENT
BEGIN:VEVENT
DTSTART;TZID=America/New_York:20260609T113000
DTEND;TZID=America/New_York:20260609T123000
DTSTAMP:20260421T204929
CREATED:20230121T044655Z
LAST-MODIFIED:20230131T013519Z
UID:10000180-1781004600-1781008200@beaminghope.org
SUMMARY:Free Groceries
DESCRIPTION:Free Groceries on Tuesdays from 11:30 am to 12:30 pm\, all welcome. No appointment and no pre-registration required. Just come with an ID and receive free groceries. You can come every week if you need to. \nWe are located in the building directly behind the building with columns in the front.
URL:https://beaminghope.org/events/free-groceries/2026-06-09/
LOCATION:Beaming Hope Church\, 11000 110th Ave N\, Largo\, FL\, 33778\, United States
ATTACH;FMTTYPE=image/jpeg:https://beaminghope.org/wp-content/uploads/2023/01/Groceries-e1675114470925.jpg
END:VEVENT
BEGIN:VEVENT
DTSTART;TZID=America/New_York:20260616T113000
DTEND;TZID=America/New_York:20260616T123000
DTSTAMP:20260421T204929
CREATED:20230121T044655Z
LAST-MODIFIED:20230131T013519Z
UID:10000181-1781609400-1781613000@beaminghope.org
SUMMARY:Free Groceries
DESCRIPTION:Free Groceries on Tuesdays from 11:30 am to 12:30 pm\, all welcome. No appointment and no pre-registration required. Just come with an ID and receive free groceries. You can come every week if you need to. \nWe are located in the building directly behind the building with columns in the front.
URL:https://beaminghope.org/events/free-groceries/2026-06-16/
LOCATION:Beaming Hope Church\, 11000 110th Ave N\, Largo\, FL\, 33778\, United States
ATTACH;FMTTYPE=image/jpeg:https://beaminghope.org/wp-content/uploads/2023/01/Groceries-e1675114470925.jpg
END:VEVENT
BEGIN:VEVENT
DTSTART;TZID=America/New_York:20260623T113000
DTEND;TZID=America/New_York:20260623T123000
DTSTAMP:20260421T204930
CREATED:20230121T044655Z
LAST-MODIFIED:20230131T013519Z
UID:10000182-1782214200-1782217800@beaminghope.org
SUMMARY:Free Groceries
DESCRIPTION:Free Groceries on Tuesdays from 11:30 am to 12:30 pm\, all welcome. No appointment and no pre-registration required. Just come with an ID and receive free groceries. You can come every week if you need to. \nWe are located in the building directly behind the building with columns in the front.
URL:https://beaminghope.org/events/free-groceries/2026-06-23/
LOCATION:Beaming Hope Church\, 11000 110th Ave N\, Largo\, FL\, 33778\, United States
ATTACH;FMTTYPE=image/jpeg:https://beaminghope.org/wp-content/uploads/2023/01/Groceries-e1675114470925.jpg
END:VEVENT
BEGIN:VEVENT
DTSTART;TZID=America/New_York:20260630T113000
DTEND;TZID=America/New_York:20260630T123000
DTSTAMP:20260421T204930
CREATED:20230121T044655Z
LAST-MODIFIED:20230131T013519Z
UID:10000183-1782819000-1782822600@beaminghope.org
SUMMARY:Free Groceries
DESCRIPTION:Free Groceries on Tuesdays from 11:30 am to 12:30 pm\, all welcome. No appointment and no pre-registration required. Just come with an ID and receive free groceries. You can come every week if you need to. \nWe are located in the building directly behind the building with columns in the front.
URL:https://beaminghope.org/events/free-groceries/2026-06-30/
LOCATION:Beaming Hope Church\, 11000 110th Ave N\, Largo\, FL\, 33778\, United States
ATTACH;FMTTYPE=image/jpeg:https://beaminghope.org/wp-content/uploads/2023/01/Groceries-e1675114470925.jpg
END:VEVENT
BEGIN:VEVENT
DTSTART;TZID=America/New_York:20260707T113000
DTEND;TZID=America/New_York:20260707T123000
DTSTAMP:20260421T204930
CREATED:20230121T044655Z
LAST-MODIFIED:20230131T013519Z
UID:10000184-1783423800-1783427400@beaminghope.org
SUMMARY:Free Groceries
DESCRIPTION:Free Groceries on Tuesdays from 11:30 am to 12:30 pm\, all welcome. No appointment and no pre-registration required. Just come with an ID and receive free groceries. You can come every week if you need to. \nWe are located in the building directly behind the building with columns in the front.
URL:https://beaminghope.org/events/free-groceries/2026-07-07/
LOCATION:Beaming Hope Church\, 11000 110th Ave N\, Largo\, FL\, 33778\, United States
ATTACH;FMTTYPE=image/jpeg:https://beaminghope.org/wp-content/uploads/2023/01/Groceries-e1675114470925.jpg
END:VEVENT
BEGIN:VEVENT
DTSTART;TZID=America/New_York:20260714T113000
DTEND;TZID=America/New_York:20260714T123000
DTSTAMP:20260421T204930
CREATED:20230121T044655Z
LAST-MODIFIED:20230131T013519Z
UID:10000185-1784028600-1784032200@beaminghope.org
SUMMARY:Free Groceries
DESCRIPTION:Free Groceries on Tuesdays from 11:30 am to 12:30 pm\, all welcome. No appointment and no pre-registration required. Just come with an ID and receive free groceries. You can come every week if you need to. \nWe are located in the building directly behind the building with columns in the front.
URL:https://beaminghope.org/events/free-groceries/2026-07-14/
LOCATION:Beaming Hope Church\, 11000 110th Ave N\, Largo\, FL\, 33778\, United States
ATTACH;FMTTYPE=image/jpeg:https://beaminghope.org/wp-content/uploads/2023/01/Groceries-e1675114470925.jpg
END:VEVENT
BEGIN:VEVENT
DTSTART;TZID=America/New_York:20260721T113000
DTEND;TZID=America/New_York:20260721T123000
DTSTAMP:20260421T204930
CREATED:20230121T044655Z
LAST-MODIFIED:20230131T013519Z
UID:10000186-1784633400-1784637000@beaminghope.org
SUMMARY:Free Groceries
DESCRIPTION:Free Groceries on Tuesdays from 11:30 am to 12:30 pm\, all welcome. No appointment and no pre-registration required. Just come with an ID and receive free groceries. You can come every week if you need to. \nWe are located in the building directly behind the building with columns in the front.
URL:https://beaminghope.org/events/free-groceries/2026-07-21/
LOCATION:Beaming Hope Church\, 11000 110th Ave N\, Largo\, FL\, 33778\, United States
ATTACH;FMTTYPE=image/jpeg:https://beaminghope.org/wp-content/uploads/2023/01/Groceries-e1675114470925.jpg
END:VEVENT
BEGIN:VEVENT
DTSTART;TZID=America/New_York:20260728T113000
DTEND;TZID=America/New_York:20260728T123000
DTSTAMP:20260421T204930
CREATED:20230121T044655Z
LAST-MODIFIED:20230131T013519Z
UID:10000187-1785238200-1785241800@beaminghope.org
SUMMARY:Free Groceries
DESCRIPTION:Free Groceries on Tuesdays from 11:30 am to 12:30 pm\, all welcome. No appointment and no pre-registration required. Just come with an ID and receive free groceries. You can come every week if you need to. \nWe are located in the building directly behind the building with columns in the front.
URL:https://beaminghope.org/events/free-groceries/2026-07-28/
LOCATION:Beaming Hope Church\, 11000 110th Ave N\, Largo\, FL\, 33778\, United States
ATTACH;FMTTYPE=image/jpeg:https://beaminghope.org/wp-content/uploads/2023/01/Groceries-e1675114470925.jpg
END:VEVENT
BEGIN:VEVENT
DTSTART;TZID=America/New_York:20260804T113000
DTEND;TZID=America/New_York:20260804T123000
DTSTAMP:20260421T204930
CREATED:20230121T044655Z
LAST-MODIFIED:20230131T013519Z
UID:10000188-1785843000-1785846600@beaminghope.org
SUMMARY:Free Groceries
DESCRIPTION:Free Groceries on Tuesdays from 11:30 am to 12:30 pm\, all welcome. No appointment and no pre-registration required. Just come with an ID and receive free groceries. You can come every week if you need to. \nWe are located in the building directly behind the building with columns in the front.
URL:https://beaminghope.org/events/free-groceries/2026-08-04/
LOCATION:Beaming Hope Church\, 11000 110th Ave N\, Largo\, FL\, 33778\, United States
ATTACH;FMTTYPE=image/jpeg:https://beaminghope.org/wp-content/uploads/2023/01/Groceries-e1675114470925.jpg
END:VEVENT
BEGIN:VEVENT
DTSTART;TZID=America/New_York:20260811T113000
DTEND;TZID=America/New_York:20260811T123000
DTSTAMP:20260421T204930
CREATED:20230121T044655Z
LAST-MODIFIED:20230131T013519Z
UID:10000189-1786447800-1786451400@beaminghope.org
SUMMARY:Free Groceries
DESCRIPTION:Free Groceries on Tuesdays from 11:30 am to 12:30 pm\, all welcome. No appointment and no pre-registration required. Just come with an ID and receive free groceries. You can come every week if you need to. \nWe are located in the building directly behind the building with columns in the front.
URL:https://beaminghope.org/events/free-groceries/2026-08-11/
LOCATION:Beaming Hope Church\, 11000 110th Ave N\, Largo\, FL\, 33778\, United States
ATTACH;FMTTYPE=image/jpeg:https://beaminghope.org/wp-content/uploads/2023/01/Groceries-e1675114470925.jpg
END:VEVENT
BEGIN:VEVENT
DTSTART;TZID=America/New_York:20260818T113000
DTEND;TZID=America/New_York:20260818T123000
DTSTAMP:20260421T204930
CREATED:20230121T044655Z
LAST-MODIFIED:20230131T013519Z
UID:10000190-1787052600-1787056200@beaminghope.org
SUMMARY:Free Groceries
DESCRIPTION:Free Groceries on Tuesdays from 11:30 am to 12:30 pm\, all welcome. No appointment and no pre-registration required. Just come with an ID and receive free groceries. You can come every week if you need to. \nWe are located in the building directly behind the building with columns in the front.
URL:https://beaminghope.org/events/free-groceries/2026-08-18/
LOCATION:Beaming Hope Church\, 11000 110th Ave N\, Largo\, FL\, 33778\, United States
ATTACH;FMTTYPE=image/jpeg:https://beaminghope.org/wp-content/uploads/2023/01/Groceries-e1675114470925.jpg
END:VEVENT
BEGIN:VEVENT
DTSTART;TZID=America/New_York:20260825T113000
DTEND;TZID=America/New_York:20260825T123000
DTSTAMP:20260421T204930
CREATED:20230121T044655Z
LAST-MODIFIED:20230131T013519Z
UID:10000191-1787657400-1787661000@beaminghope.org
SUMMARY:Free Groceries
DESCRIPTION:Free Groceries on Tuesdays from 11:30 am to 12:30 pm\, all welcome. No appointment and no pre-registration required. Just come with an ID and receive free groceries. You can come every week if you need to. \nWe are located in the building directly behind the building with columns in the front.
URL:https://beaminghope.org/events/free-groceries/2026-08-25/
LOCATION:Beaming Hope Church\, 11000 110th Ave N\, Largo\, FL\, 33778\, United States
ATTACH;FMTTYPE=image/jpeg:https://beaminghope.org/wp-content/uploads/2023/01/Groceries-e1675114470925.jpg
END:VEVENT
BEGIN:VEVENT
DTSTART;TZID=America/New_York:20260901T113000
DTEND;TZID=America/New_York:20260901T123000
DTSTAMP:20260421T204930
CREATED:20230121T044655Z
LAST-MODIFIED:20230131T013519Z
UID:10000192-1788262200-1788265800@beaminghope.org
SUMMARY:Free Groceries
DESCRIPTION:Free Groceries on Tuesdays from 11:30 am to 12:30 pm\, all welcome. No appointment and no pre-registration required. Just come with an ID and receive free groceries. You can come every week if you need to. \nWe are located in the building directly behind the building with columns in the front.
URL:https://beaminghope.org/events/free-groceries/2026-09-01/
LOCATION:Beaming Hope Church\, 11000 110th Ave N\, Largo\, FL\, 33778\, United States
ATTACH;FMTTYPE=image/jpeg:https://beaminghope.org/wp-content/uploads/2023/01/Groceries-e1675114470925.jpg
END:VEVENT
BEGIN:VEVENT
DTSTART;TZID=America/New_York:20260908T113000
DTEND;TZID=America/New_York:20260908T123000
DTSTAMP:20260421T204930
CREATED:20230121T044655Z
LAST-MODIFIED:20230131T013519Z
UID:10000193-1788867000-1788870600@beaminghope.org
SUMMARY:Free Groceries
DESCRIPTION:Free Groceries on Tuesdays from 11:30 am to 12:30 pm\, all welcome. No appointment and no pre-registration required. Just come with an ID and receive free groceries. You can come every week if you need to. \nWe are located in the building directly behind the building with columns in the front.
URL:https://beaminghope.org/events/free-groceries/2026-09-08/
LOCATION:Beaming Hope Church\, 11000 110th Ave N\, Largo\, FL\, 33778\, United States
ATTACH;FMTTYPE=image/jpeg:https://beaminghope.org/wp-content/uploads/2023/01/Groceries-e1675114470925.jpg
END:VEVENT
BEGIN:VEVENT
DTSTART;TZID=America/New_York:20260915T113000
DTEND;TZID=America/New_York:20260915T123000
DTSTAMP:20260421T204930
CREATED:20230121T044655Z
LAST-MODIFIED:20230131T013519Z
UID:10000194-1789471800-1789475400@beaminghope.org
SUMMARY:Free Groceries
DESCRIPTION:Free Groceries on Tuesdays from 11:30 am to 12:30 pm\, all welcome. No appointment and no pre-registration required. Just come with an ID and receive free groceries. You can come every week if you need to. \nWe are located in the building directly behind the building with columns in the front.
URL:https://beaminghope.org/events/free-groceries/2026-09-15/
LOCATION:Beaming Hope Church\, 11000 110th Ave N\, Largo\, FL\, 33778\, United States
ATTACH;FMTTYPE=image/jpeg:https://beaminghope.org/wp-content/uploads/2023/01/Groceries-e1675114470925.jpg
END:VEVENT
BEGIN:VEVENT
DTSTART;TZID=America/New_York:20260922T113000
DTEND;TZID=America/New_York:20260922T123000
DTSTAMP:20260421T204930
CREATED:20230121T044655Z
LAST-MODIFIED:20230131T013519Z
UID:10000195-1790076600-1790080200@beaminghope.org
SUMMARY:Free Groceries
DESCRIPTION:Free Groceries on Tuesdays from 11:30 am to 12:30 pm\, all welcome. No appointment and no pre-registration required. Just come with an ID and receive free groceries. You can come every week if you need to. \nWe are located in the building directly behind the building with columns in the front.
URL:https://beaminghope.org/events/free-groceries/2026-09-22/
LOCATION:Beaming Hope Church\, 11000 110th Ave N\, Largo\, FL\, 33778\, United States
ATTACH;FMTTYPE=image/jpeg:https://beaminghope.org/wp-content/uploads/2023/01/Groceries-e1675114470925.jpg
END:VEVENT
BEGIN:VEVENT
DTSTART;TZID=America/New_York:20260929T113000
DTEND;TZID=America/New_York:20260929T123000
DTSTAMP:20260421T204930
CREATED:20230121T044655Z
LAST-MODIFIED:20230131T013519Z
UID:10000196-1790681400-1790685000@beaminghope.org
SUMMARY:Free Groceries
DESCRIPTION:Free Groceries on Tuesdays from 11:30 am to 12:30 pm\, all welcome. No appointment and no pre-registration required. Just come with an ID and receive free groceries. You can come every week if you need to. \nWe are located in the building directly behind the building with columns in the front.
URL:https://beaminghope.org/events/free-groceries/2026-09-29/
LOCATION:Beaming Hope Church\, 11000 110th Ave N\, Largo\, FL\, 33778\, United States
ATTACH;FMTTYPE=image/jpeg:https://beaminghope.org/wp-content/uploads/2023/01/Groceries-e1675114470925.jpg
END:VEVENT
BEGIN:VEVENT
DTSTART;TZID=America/New_York:20261006T113000
DTEND;TZID=America/New_York:20261006T123000
DTSTAMP:20260421T204930
CREATED:20230121T044655Z
LAST-MODIFIED:20230131T013519Z
UID:10000197-1791286200-1791289800@beaminghope.org
SUMMARY:Free Groceries
DESCRIPTION:Free Groceries on Tuesdays from 11:30 am to 12:30 pm\, all welcome. No appointment and no pre-registration required. Just come with an ID and receive free groceries. You can come every week if you need to. \nWe are located in the building directly behind the building with columns in the front.
URL:https://beaminghope.org/events/free-groceries/2026-10-06/
LOCATION:Beaming Hope Church\, 11000 110th Ave N\, Largo\, FL\, 33778\, United States
ATTACH;FMTTYPE=image/jpeg:https://beaminghope.org/wp-content/uploads/2023/01/Groceries-e1675114470925.jpg
END:VEVENT
BEGIN:VEVENT
DTSTART;TZID=America/New_York:20261013T113000
DTEND;TZID=America/New_York:20261013T123000
DTSTAMP:20260421T204930
CREATED:20230121T044655Z
LAST-MODIFIED:20230131T013519Z
UID:10000198-1791891000-1791894600@beaminghope.org
SUMMARY:Free Groceries
DESCRIPTION:Free Groceries on Tuesdays from 11:30 am to 12:30 pm\, all welcome. No appointment and no pre-registration required. Just come with an ID and receive free groceries. You can come every week if you need to. \nWe are located in the building directly behind the building with columns in the front.
URL:https://beaminghope.org/events/free-groceries/2026-10-13/
LOCATION:Beaming Hope Church\, 11000 110th Ave N\, Largo\, FL\, 33778\, United States
ATTACH;FMTTYPE=image/jpeg:https://beaminghope.org/wp-content/uploads/2023/01/Groceries-e1675114470925.jpg
END:VEVENT
BEGIN:VEVENT
DTSTART;TZID=America/New_York:20261020T113000
DTEND;TZID=America/New_York:20261020T123000
DTSTAMP:20260421T204930
CREATED:20230121T044655Z
LAST-MODIFIED:20230131T013519Z
UID:10000199-1792495800-1792499400@beaminghope.org
SUMMARY:Free Groceries
DESCRIPTION:Free Groceries on Tuesdays from 11:30 am to 12:30 pm\, all welcome. No appointment and no pre-registration required. Just come with an ID and receive free groceries. You can come every week if you need to. \nWe are located in the building directly behind the building with columns in the front.
URL:https://beaminghope.org/events/free-groceries/2026-10-20/
LOCATION:Beaming Hope Church\, 11000 110th Ave N\, Largo\, FL\, 33778\, United States
ATTACH;FMTTYPE=image/jpeg:https://beaminghope.org/wp-content/uploads/2023/01/Groceries-e1675114470925.jpg
END:VEVENT
BEGIN:VEVENT
DTSTART;TZID=America/New_York:20261027T113000
DTEND;TZID=America/New_York:20261027T123000
DTSTAMP:20260421T204930
CREATED:20230121T044655Z
LAST-MODIFIED:20230131T013519Z
UID:10000200-1793100600-1793104200@beaminghope.org
SUMMARY:Free Groceries
DESCRIPTION:Free Groceries on Tuesdays from 11:30 am to 12:30 pm\, all welcome. No appointment and no pre-registration required. Just come with an ID and receive free groceries. You can come every week if you need to. \nWe are located in the building directly behind the building with columns in the front.
URL:https://beaminghope.org/events/free-groceries/2026-10-27/
LOCATION:Beaming Hope Church\, 11000 110th Ave N\, Largo\, FL\, 33778\, United States
ATTACH;FMTTYPE=image/jpeg:https://beaminghope.org/wp-content/uploads/2023/01/Groceries-e1675114470925.jpg
END:VEVENT
BEGIN:VEVENT
DTSTART;TZID=America/New_York:20261103T113000
DTEND;TZID=America/New_York:20261103T123000
DTSTAMP:20260421T204930
CREATED:20230121T044655Z
LAST-MODIFIED:20230131T013519Z
UID:10000201-1793705400-1793709000@beaminghope.org
SUMMARY:Free Groceries
DESCRIPTION:Free Groceries on Tuesdays from 11:30 am to 12:30 pm\, all welcome. No appointment and no pre-registration required. Just come with an ID and receive free groceries. You can come every week if you need to. \nWe are located in the building directly behind the building with columns in the front.
URL:https://beaminghope.org/events/free-groceries/2026-11-03/
LOCATION:Beaming Hope Church\, 11000 110th Ave N\, Largo\, FL\, 33778\, United States
ATTACH;FMTTYPE=image/jpeg:https://beaminghope.org/wp-content/uploads/2023/01/Groceries-e1675114470925.jpg
END:VEVENT
BEGIN:VEVENT
DTSTART;TZID=America/New_York:20261110T113000
DTEND;TZID=America/New_York:20261110T123000
DTSTAMP:20260421T204930
CREATED:20230121T044655Z
LAST-MODIFIED:20230131T013519Z
UID:10000202-1794310200-1794313800@beaminghope.org
SUMMARY:Free Groceries
DESCRIPTION:Free Groceries on Tuesdays from 11:30 am to 12:30 pm\, all welcome. No appointment and no pre-registration required. Just come with an ID and receive free groceries. You can come every week if you need to. \nWe are located in the building directly behind the building with columns in the front.
URL:https://beaminghope.org/events/free-groceries/2026-11-10/
LOCATION:Beaming Hope Church\, 11000 110th Ave N\, Largo\, FL\, 33778\, United States
ATTACH;FMTTYPE=image/jpeg:https://beaminghope.org/wp-content/uploads/2023/01/Groceries-e1675114470925.jpg
END:VEVENT
BEGIN:VEVENT
DTSTART;TZID=America/New_York:20261117T113000
DTEND;TZID=America/New_York:20261117T123000
DTSTAMP:20260421T204930
CREATED:20230121T044655Z
LAST-MODIFIED:20230131T013519Z
UID:10000203-1794915000-1794918600@beaminghope.org
SUMMARY:Free Groceries
DESCRIPTION:Free Groceries on Tuesdays from 11:30 am to 12:30 pm\, all welcome. No appointment and no pre-registration required. Just come with an ID and receive free groceries. You can come every week if you need to. \nWe are located in the building directly behind the building with columns in the front.
URL:https://beaminghope.org/events/free-groceries/2026-11-17/
LOCATION:Beaming Hope Church\, 11000 110th Ave N\, Largo\, FL\, 33778\, United States
ATTACH;FMTTYPE=image/jpeg:https://beaminghope.org/wp-content/uploads/2023/01/Groceries-e1675114470925.jpg
END:VEVENT
END:VCALENDAR